BEGIN:VCALENDAR
VERSION:2.0
PRODID:-//CoRPAR - ECPv6.15.18//NONSGML v1.0//EN
CALSCALE:GREGORIAN
METHOD:PUBLISH
X-ORIGINAL-URL:https://corpar.fr
X-WR-CALDESC:Évènements pour CoRPAR
REFRESH-INTERVAL;VALUE=DURATION:PT1H
X-Robots-Tag:noindex
X-PUBLISHED-TTL:PT1H
BEGIN:VTIMEZONE
TZID:Europe/Paris
BEGIN:DAYLIGHT
TZOFFSETFROM:+0100
TZOFFSETTO:+0200
TZNAME:CEST
DTSTART:20230326T010000
END:DAYLIGHT
BEGIN:STANDARD
TZOFFSETFROM:+0200
TZOFFSETTO:+0100
TZNAME:CET
DTSTART:20231029T010000
END:STANDARD
BEGIN:DAYLIGHT
TZOFFSETFROM:+0100
TZOFFSETTO:+0200
TZNAME:CEST
DTSTART:20240331T010000
END:DAYLIGHT
BEGIN:STANDARD
TZOFFSETFROM:+0200
TZOFFSETTO:+0100
TZNAME:CET
DTSTART:20241027T010000
END:STANDARD
BEGIN:DAYLIGHT
TZOFFSETFROM:+0100
TZOFFSETTO:+0200
TZNAME:CEST
DTSTART:20250330T010000
END:DAYLIGHT
BEGIN:STANDARD
TZOFFSETFROM:+0200
TZOFFSETTO:+0100
TZNAME:CET
DTSTART:20251026T010000
END:STANDARD
END:VTIMEZONE
BEGIN:VEVENT
DTSTART;VALUE=DATE:20241001
DTEND;VALUE=DATE:20241002
DTSTAMP:20260425T181844
CREATED:20240617T154349Z
LAST-MODIFIED:20240617T154349Z
UID:3064-1727740800-1727827199@corpar.fr
SUMMARY:Journée Radirs
DESCRIPTION:
URL:https://corpar.fr/agenda/journee-radirs/
LOCATION:CNRS Montpellier
END:VEVENT
BEGIN:VEVENT
DTSTART;VALUE=DATE:20241008
DTEND;VALUE=DATE:20241009
DTSTAMP:20260425T181844
CREATED:20240617T153248Z
LAST-MODIFIED:20240617T154432Z
UID:3055-1728345600-1728431999@corpar.fr
SUMMARY:Journée Réseau R2Nord
DESCRIPTION:La journée se déroulera en métropole lilloise. ( Programme et lieu de réunion à venir). \n 
URL:https://corpar.fr/agenda/reunion-reseau-r2nord-2/
LOCATION:Lille
END:VEVENT
END:VCALENDAR