BEGIN:VCALENDAR
VERSION:2.0
PRODID:-//CoRPAR - ECPv6.15.18//NONSGML v1.0//EN
CALSCALE:GREGORIAN
METHOD:PUBLISH
X-WR-CALNAME:CoRPAR
X-ORIGINAL-URL:https://corpar.fr
X-WR-CALDESC:Évènements pour CoRPAR
REFRESH-INTERVAL;VALUE=DURATION:PT1H
X-Robots-Tag:noindex
X-PUBLISHED-TTL:PT1H
BEGIN:VTIMEZONE
TZID:Europe/Paris
BEGIN:DAYLIGHT
TZOFFSETFROM:+0100
TZOFFSETTO:+0200
TZNAME:CEST
DTSTART:20230326T010000
END:DAYLIGHT
BEGIN:STANDARD
TZOFFSETFROM:+0200
TZOFFSETTO:+0100
TZNAME:CET
DTSTART:20231029T010000
END:STANDARD
BEGIN:DAYLIGHT
TZOFFSETFROM:+0100
TZOFFSETTO:+0200
TZNAME:CEST
DTSTART:20240331T010000
END:DAYLIGHT
BEGIN:STANDARD
TZOFFSETFROM:+0200
TZOFFSETTO:+0100
TZNAME:CET
DTSTART:20241027T010000
END:STANDARD
BEGIN:DAYLIGHT
TZOFFSETFROM:+0100
TZOFFSETTO:+0200
TZNAME:CEST
DTSTART:20250330T010000
END:DAYLIGHT
BEGIN:STANDARD
TZOFFSETFROM:+0200
TZOFFSETTO:+0100
TZNAME:CET
DTSTART:20251026T010000
END:STANDARD
END:VTIMEZONE
BEGIN:VEVENT
DTSTART;VALUE=DATE:20240613
DTEND;VALUE=DATE:20240615
DTSTAMP:20260426T004350
CREATED:20231221T153704Z
LAST-MODIFIED:20231221T153704Z
UID:2998-1718236800-1718409599@corpar.fr
SUMMARY:Séminaire Réseau Grand Ouest
DESCRIPTION:
URL:https://corpar.fr/agenda/seminaire-reseau-grand-ouest-3/
LOCATION:Université de Caen
CATEGORIES:Congrès et séminaires,Réunion d'un réseau régional
ORGANIZER;CN="R%C3%A9seau grand Ouest":MAILTO:pierre.barbey@unicaen.fr
END:VEVENT
BEGIN:VEVENT
DTSTART;VALUE=DATE:20240621
DTEND;VALUE=DATE:20240622
DTSTAMP:20260426T004350
CREATED:20240617T154230Z
LAST-MODIFIED:20240617T154230Z
UID:3061-1718928000-1719014399@corpar.fr
SUMMARY:Journée RAMIP
DESCRIPTION:
URL:https://corpar.fr/agenda/journee-ramip-2/
LOCATION:Oncopole de Toulouse
END:VEVENT
BEGIN:VEVENT
DTSTART;VALUE=DATE:20240627
DTEND;VALUE=DATE:20240628
DTSTAMP:20260426T004350
CREATED:20240617T152923Z
LAST-MODIFIED:20240617T153014Z
UID:3051-1719446400-1719532799@corpar.fr
SUMMARY:Journée Réseau APCRAP
DESCRIPTION:La journée aura lieu le 27 juin 2024 à l’hôpital Rotschild pour des présentations passionnantes dans une ambiance conviviale et nous avons le plaisir de vous offrir le repas !! \nInscription en cliquant sur le texte en gras. \n 
URL:https://corpar.fr/agenda/journee-reseau-apcrap-2/
LOCATION:Hôpital Rotschild\, 5 Rue Santerre\, Paris\, 75012
ORGANIZER;CN="R%C3%A9seau APCRAP":MAILTO:apcrap.hp@orange.fr
END:VEVENT
END:VCALENDAR