BEGIN:VCALENDAR
VERSION:2.0
PRODID:-//CoRPAR - ECPv6.15.18//NONSGML v1.0//EN
CALSCALE:GREGORIAN
METHOD:PUBLISH
X-ORIGINAL-URL:https://corpar.fr
X-WR-CALDESC:Évènements pour CoRPAR
REFRESH-INTERVAL;VALUE=DURATION:PT1H
X-Robots-Tag:noindex
X-PUBLISHED-TTL:PT1H
BEGIN:VTIMEZONE
TZID:Europe/Paris
BEGIN:DAYLIGHT
TZOFFSETFROM:+0100
TZOFFSETTO:+0200
TZNAME:CEST
DTSTART:20180325T010000
END:DAYLIGHT
BEGIN:STANDARD
TZOFFSETFROM:+0200
TZOFFSETTO:+0100
TZNAME:CET
DTSTART:20181028T010000
END:STANDARD
BEGIN:DAYLIGHT
TZOFFSETFROM:+0100
TZOFFSETTO:+0200
TZNAME:CEST
DTSTART:20190331T010000
END:DAYLIGHT
BEGIN:STANDARD
TZOFFSETFROM:+0200
TZOFFSETTO:+0100
TZNAME:CET
DTSTART:20191027T010000
END:STANDARD
BEGIN:DAYLIGHT
TZOFFSETFROM:+0100
TZOFFSETTO:+0200
TZNAME:CEST
DTSTART:20200329T010000
END:DAYLIGHT
BEGIN:STANDARD
TZOFFSETFROM:+0200
TZOFFSETTO:+0100
TZNAME:CET
DTSTART:20201025T010000
END:STANDARD
END:VTIMEZONE
BEGIN:VEVENT
DTSTART;VALUE=DATE:20190405
DTEND;VALUE=DATE:20190406
DTSTAMP:20260426T015532
CREATED:20190312T091519Z
LAST-MODIFIED:20190421T063250Z
UID:82-1554422400-1554508799@corpar.fr
SUMMARY:Journée mesure des rayons X\, réseau Centre
DESCRIPTION:Afin de permettre la réalisation de travaux pratiques dans lesquelles chacun puisse manipuler les appareils de mesures\, le nombre de places est limité à 24 participants et réservé en priorité aux utilisateurs de générateurs électriques de rayons X du domaine industriel ou médical. \nMerci de vous inscrire par mail à l’adresse suivante : eric.debondant.rp@gmail.com \nLe montant de l’inscription à cette journée est de 20 euros réglés de préférence par chèque et sur place.
URL:https://corpar.fr/agenda/journee-mesure-rayons-x/
LOCATION:CH BLOIS\, mail Pierre Charlot\, Blois\, 41016\, France
CATEGORIES:Réunion d'un réseau régional
ORGANIZER;CN="Eric Debondant":MAILTO:eric.debondant.rp@gmail.com
END:VEVENT
BEGIN:VEVENT
DTSTART;VALUE=DATE:20190425
DTEND;VALUE=DATE:20190426
DTSTAMP:20260426T015532
CREATED:20190406T163840Z
LAST-MODIFIED:20190421T090236Z
UID:779-1556150400-1556236799@corpar.fr
SUMMARY:Réunion Centre
DESCRIPTION:Thèmes abordés : «Réglementation\, outils IRSN\, radon\, faibles doses et retour d’expérience PCR»\nVenez participer à cette journée de formation (programme et inscriptions) \, pour toute demande d’information complémentaire : rxprotection.centre@gmail.com \n  \n  \n  \n 
URL:https://corpar.fr/agenda/reunion-centre/
LOCATION:CH Blois\, mail Pierre Charlot\, Blois\, 41016
CATEGORIES:Réunion d'un réseau régional
END:VEVENT
END:VCALENDAR