BEGIN:VCALENDAR
VERSION:2.0
PRODID:-//CoRPAR - ECPv6.15.18//NONSGML v1.0//EN
CALSCALE:GREGORIAN
METHOD:PUBLISH
X-WR-CALNAME:CoRPAR
X-ORIGINAL-URL:https://corpar.fr
X-WR-CALDESC:Évènements pour CoRPAR
REFRESH-INTERVAL;VALUE=DURATION:PT1H
X-Robots-Tag:noindex
X-PUBLISHED-TTL:PT1H
BEGIN:VTIMEZONE
TZID:Europe/Paris
BEGIN:DAYLIGHT
TZOFFSETFROM:+0100
TZOFFSETTO:+0200
TZNAME:CEST
DTSTART:20230326T010000
END:DAYLIGHT
BEGIN:STANDARD
TZOFFSETFROM:+0200
TZOFFSETTO:+0100
TZNAME:CET
DTSTART:20231029T010000
END:STANDARD
BEGIN:DAYLIGHT
TZOFFSETFROM:+0100
TZOFFSETTO:+0200
TZNAME:CEST
DTSTART:20240331T010000
END:DAYLIGHT
BEGIN:STANDARD
TZOFFSETFROM:+0200
TZOFFSETTO:+0100
TZNAME:CET
DTSTART:20241027T010000
END:STANDARD
BEGIN:DAYLIGHT
TZOFFSETFROM:+0100
TZOFFSETTO:+0200
TZNAME:CEST
DTSTART:20250330T010000
END:DAYLIGHT
BEGIN:STANDARD
TZOFFSETFROM:+0200
TZOFFSETTO:+0100
TZNAME:CET
DTSTART:20251026T010000
END:STANDARD
END:VTIMEZONE
BEGIN:VEVENT
DTSTART;VALUE=DATE:20241112
DTEND;VALUE=DATE:20241113
DTSTAMP:20260425T171844
CREATED:20241011T092617Z
LAST-MODIFIED:20241011T092617Z
UID:3112-1731369600-1731455999@corpar.fr
SUMMARY:Journée Réseau Aircap
DESCRIPTION:
URL:https://corpar.fr/agenda/journee-reseau-aircap/
LOCATION:Laon
CATEGORIES:Réunion d'un réseau régional
END:VEVENT
BEGIN:VEVENT
DTSTART;VALUE=DATE:20241114
DTEND;VALUE=DATE:20241115
DTSTAMP:20260425T171844
CREATED:20240624T115012Z
LAST-MODIFIED:20240909T121526Z
UID:3074-1731542400-1731628799@corpar.fr
SUMMARY:Journée radioprotection Réseau Centre
DESCRIPTION:Ça y est\, le programme est validé ! L’objectif : un retour aux fondamentaux avec un focus sur quelques missions des PCR.\n \nLe programme de cette nouvelle journée est disponible ci-dessous et les inscriptions via le site du réseau \nProgramme-V4 Reseau PCR Bourges-11-2024 \n 
URL:https://corpar.fr/agenda/journee-radioprotection-reseau-centre/
LOCATION:Centre de Formation de la défense\, 16 boulevard Lahitolle\, BOURGES\, 18021\, France
CATEGORIES:Réunion d'un réseau régional
ORGANIZER;CN="R%C3%A9seau Radioprotection Centre":MAILTO:rxprotection.centre@gmail.com
END:VEVENT
END:VCALENDAR