BEGIN:VCALENDAR
VERSION:2.0
PRODID:-//CoRPAR - ECPv6.15.18//NONSGML v1.0//EN
CALSCALE:GREGORIAN
METHOD:PUBLISH
X-ORIGINAL-URL:https://corpar.fr
X-WR-CALDESC:Évènements pour CoRPAR
REFRESH-INTERVAL;VALUE=DURATION:PT1H
X-Robots-Tag:noindex
X-PUBLISHED-TTL:PT1H
BEGIN:VTIMEZONE
TZID:Europe/Paris
BEGIN:DAYLIGHT
TZOFFSETFROM:+0100
TZOFFSETTO:+0200
TZNAME:CEST
DTSTART:20210328T010000
END:DAYLIGHT
BEGIN:STANDARD
TZOFFSETFROM:+0200
TZOFFSETTO:+0100
TZNAME:CET
DTSTART:20211031T010000
END:STANDARD
BEGIN:DAYLIGHT
TZOFFSETFROM:+0100
TZOFFSETTO:+0200
TZNAME:CEST
DTSTART:20220327T010000
END:DAYLIGHT
BEGIN:STANDARD
TZOFFSETFROM:+0200
TZOFFSETTO:+0100
TZNAME:CET
DTSTART:20221030T010000
END:STANDARD
BEGIN:DAYLIGHT
TZOFFSETFROM:+0100
TZOFFSETTO:+0200
TZNAME:CEST
DTSTART:20230326T010000
END:DAYLIGHT
BEGIN:STANDARD
TZOFFSETFROM:+0200
TZOFFSETTO:+0100
TZNAME:CET
DTSTART:20231029T010000
END:STANDARD
END:VTIMEZONE
BEGIN:VEVENT
DTSTART;VALUE=DATE:20221018
DTEND;VALUE=DATE:20221019
DTSTAMP:20260425T234832
CREATED:20220809T134309Z
LAST-MODIFIED:20220809T134309Z
UID:2744-1666051200-1666137599@corpar.fr
SUMMARY:Journée Formation Réseau Centre
DESCRIPTION:RDV  vous début septembre avec le programme et les renseignements pour vous inscrire\, le nombre de place sera limité et malheureusement nos partenaires ne pourront pas exposer.
URL:https://corpar.fr/agenda/journee-formation-reseau-centre/
LOCATION:Laboratoire de Radioastronomie de Nançay
CATEGORIES:Journées scientifiques,Réunion d'un réseau régional
ORGANIZER;CN="R%C3%A9seau Radioprotection Centre":MAILTO:rxprotection.centre@gmail.com
END:VEVENT
END:VCALENDAR